BEGIN:VCALENDAR
VERSION:2.0
PRODID:-//Griffiss Institute - ECPv6.15.20//NONSGML v1.0//EN
CALSCALE:GREGORIAN
METHOD:PUBLISH
X-ORIGINAL-URL:https://www.griffissinstitute.org
X-WR-CALDESC:Events for Griffiss Institute
REFRESH-INTERVAL;VALUE=DURATION:PT1H
X-Robots-Tag:noindex
X-PUBLISHED-TTL:PT1H
BEGIN:VTIMEZONE
TZID:America/New_York
BEGIN:DAYLIGHT
TZOFFSETFROM:-0500
TZOFFSETTO:-0400
TZNAME:EDT
DTSTART:20240310T070000
END:DAYLIGHT
BEGIN:STANDARD
TZOFFSETFROM:-0400
TZOFFSETTO:-0500
TZNAME:EST
DTSTART:20241103T060000
END:STANDARD
BEGIN:DAYLIGHT
TZOFFSETFROM:-0500
TZOFFSETTO:-0400
TZNAME:EDT
DTSTART:20250309T070000
END:DAYLIGHT
BEGIN:STANDARD
TZOFFSETFROM:-0400
TZOFFSETTO:-0500
TZNAME:EST
DTSTART:20251102T060000
END:STANDARD
BEGIN:DAYLIGHT
TZOFFSETFROM:-0500
TZOFFSETTO:-0400
TZNAME:EDT
DTSTART:20260308T070000
END:DAYLIGHT
BEGIN:STANDARD
TZOFFSETFROM:-0400
TZOFFSETTO:-0500
TZNAME:EST
DTSTART:20261101T060000
END:STANDARD
END:VTIMEZONE
BEGIN:VEVENT
DTSTART;TZID=America/New_York:20250714T090000
DTEND;TZID=America/New_York:20250717T150000
DTSTAMP:20260420T072538
CREATED:20250529T201845Z
LAST-MODIFIED:20250530T160808Z
UID:10000238-1752483600-1752764400@www.griffissinstitute.org
SUMMARY:STEM Camp - Arduino
DESCRIPTION:
URL:https://www.griffissinstitute.org/event/stem-camp-arduino/
END:VEVENT
BEGIN:VEVENT
DTSTART;TZID=America/New_York:20250717T090000
DTEND;TZID=America/New_York:20250717T140000
DTSTAMP:20260420T072538
CREATED:20250530T160201Z
LAST-MODIFIED:20250530T160201Z
UID:10000253-1752742800-1752760800@www.griffissinstitute.org
SUMMARY:STEM Camp - Principles of Flight 1
DESCRIPTION:
URL:https://www.griffissinstitute.org/event/stem-camp-principles-of-flight-1/2025-07-17/
END:VEVENT
BEGIN:VEVENT
DTSTART;TZID=America/New_York:20250717T123000
DTEND;TZID=America/New_York:20250717T133000
DTSTAMP:20260420T072538
CREATED:20250529T202004Z
LAST-MODIFIED:20250529T202517Z
UID:10000240-1752755400-1752759000@www.griffissinstitute.org
SUMMARY:Information Institute Tech Talk 14
DESCRIPTION:
URL:https://www.griffissinstitute.org/event/information-institute-tech-talk-14/
END:VEVENT
END:VCALENDAR