BEGIN:VCALENDAR
VERSION:2.0
PRODID:-//Griffiss Institute - ECPv6.15.20//NONSGML v1.0//EN
CALSCALE:GREGORIAN
METHOD:PUBLISH
X-ORIGINAL-URL:https://www.griffissinstitute.org
X-WR-CALDESC:Events for Griffiss Institute
REFRESH-INTERVAL;VALUE=DURATION:PT1H
X-Robots-Tag:noindex
X-PUBLISHED-TTL:PT1H
BEGIN:VTIMEZONE
TZID:America/New_York
BEGIN:DAYLIGHT
TZOFFSETFROM:-0500
TZOFFSETTO:-0400
TZNAME:EDT
DTSTART:20230312T070000
END:DAYLIGHT
BEGIN:STANDARD
TZOFFSETFROM:-0400
TZOFFSETTO:-0500
TZNAME:EST
DTSTART:20231105T060000
END:STANDARD
BEGIN:DAYLIGHT
TZOFFSETFROM:-0500
TZOFFSETTO:-0400
TZNAME:EDT
DTSTART:20240310T070000
END:DAYLIGHT
BEGIN:STANDARD
TZOFFSETFROM:-0400
TZOFFSETTO:-0500
TZNAME:EST
DTSTART:20241103T060000
END:STANDARD
BEGIN:DAYLIGHT
TZOFFSETFROM:-0500
TZOFFSETTO:-0400
TZNAME:EDT
DTSTART:20250309T070000
END:DAYLIGHT
BEGIN:STANDARD
TZOFFSETFROM:-0400
TZOFFSETTO:-0500
TZNAME:EST
DTSTART:20251102T060000
END:STANDARD
END:VTIMEZONE
BEGIN:VEVENT
DTSTART;VALUE=DATE:20240801
DTEND;VALUE=DATE:20240802
DTSTAMP:20260419T111711
CREATED:20240412T163316Z
LAST-MODIFIED:20240412T163316Z
UID:10000170-1722470400-1722556799@www.griffissinstitute.org
SUMMARY:VICEROY Career Fair
DESCRIPTION:
URL:https://www.griffissinstitute.org/event/viceroy-career-fair/
LOCATION:Innovare Advancement Center
ATTACH;FMTTYPE=image/png:https://www.griffissinstitute.org/wp-content/uploads/2024/04/Untitled-design-11.png
END:VEVENT
BEGIN:VEVENT
DTSTART;TZID=America/New_York:20240801T090000
DTEND;TZID=America/New_York:20240801T100000
DTSTAMP:20260419T111711
CREATED:20240412T163153Z
LAST-MODIFIED:20240412T163153Z
UID:10000169-1722502800-1722506400@www.griffissinstitute.org
SUMMARY:ACE Run & Breakfast
DESCRIPTION:
URL:https://www.griffissinstitute.org/event/ace-run-breakfast-8/
LOCATION:Innovare Advancement Center
ATTACH;FMTTYPE=image/png:https://www.griffissinstitute.org/wp-content/uploads/2024/04/Untitled-design-10.png
END:VEVENT
END:VCALENDAR