BEGIN:VCALENDAR
VERSION:2.0
PRODID:-//Griffiss Institute - ECPv6.15.20//NONSGML v1.0//EN
CALSCALE:GREGORIAN
METHOD:PUBLISH
X-WR-CALNAME:Griffiss Institute
X-ORIGINAL-URL:https://www.griffissinstitute.org
X-WR-CALDESC:Events for Griffiss Institute
REFRESH-INTERVAL;VALUE=DURATION:PT1H
X-Robots-Tag:noindex
X-PUBLISHED-TTL:PT1H
BEGIN:VTIMEZONE
TZID:America/New_York
BEGIN:DAYLIGHT
TZOFFSETFROM:-0500
TZOFFSETTO:-0400
TZNAME:EDT
DTSTART:20230312T070000
END:DAYLIGHT
BEGIN:STANDARD
TZOFFSETFROM:-0400
TZOFFSETTO:-0500
TZNAME:EST
DTSTART:20231105T060000
END:STANDARD
BEGIN:DAYLIGHT
TZOFFSETFROM:-0500
TZOFFSETTO:-0400
TZNAME:EDT
DTSTART:20240310T070000
END:DAYLIGHT
BEGIN:STANDARD
TZOFFSETFROM:-0400
TZOFFSETTO:-0500
TZNAME:EST
DTSTART:20241103T060000
END:STANDARD
BEGIN:DAYLIGHT
TZOFFSETFROM:-0500
TZOFFSETTO:-0400
TZNAME:EDT
DTSTART:20250309T070000
END:DAYLIGHT
BEGIN:STANDARD
TZOFFSETFROM:-0400
TZOFFSETTO:-0500
TZNAME:EST
DTSTART:20251102T060000
END:STANDARD
END:VTIMEZONE
BEGIN:VEVENT
DTSTART;TZID=America/New_York:20240730T080000
DTEND;TZID=America/New_York:20240731T160000
DTSTAMP:20260419T111602
CREATED:20240412T162512Z
LAST-MODIFIED:20240412T162546Z
UID:10000166-1722326400-1722441600@www.griffissinstitute.org
SUMMARY:VICEROY Capstone
DESCRIPTION:
URL:https://www.griffissinstitute.org/event/viceroy-capstone/
LOCATION:Innovare Advancement Center
ATTACH;FMTTYPE=image/png:https://www.griffissinstitute.org/wp-content/uploads/2024/04/Untitled-design-11.png
END:VEVENT
BEGIN:VEVENT
DTSTART;VALUE=DATE:20240731
DTEND;VALUE=DATE:20240801
DTSTAMP:20260419T111602
CREATED:20240412T162710Z
LAST-MODIFIED:20240412T162710Z
UID:10000167-1722384000-1722470399@www.griffissinstitute.org
SUMMARY:RI Intern Poster Session
DESCRIPTION:
URL:https://www.griffissinstitute.org/event/ri-intern-poster-session/
LOCATION:Innovare Advancement Center
END:VEVENT
BEGIN:VEVENT
DTSTART;TZID=America/New_York:20240731T160000
DTEND;TZID=America/New_York:20240731T170000
DTSTAMP:20260419T111602
CREATED:20240412T162820Z
LAST-MODIFIED:20240412T162820Z
UID:10000168-1722441600-1722445200@www.griffissinstitute.org
SUMMARY:Information Institute Poster Session
DESCRIPTION:
URL:https://www.griffissinstitute.org/event/information-institute-poster-session/
LOCATION:Innovare Advancement Center
ATTACH;FMTTYPE=image/png:https://www.griffissinstitute.org/wp-content/uploads/2024/04/Untitled-design-2-4.png
END:VEVENT
END:VCALENDAR