BEGIN:VCALENDAR
VERSION:2.0
PRODID:-//Griffiss Institute - ECPv6.15.20//NONSGML v1.0//EN
CALSCALE:GREGORIAN
METHOD:PUBLISH
X-WR-CALNAME:Griffiss Institute
X-ORIGINAL-URL:https://www.griffissinstitute.org
X-WR-CALDESC:Events for Griffiss Institute
REFRESH-INTERVAL;VALUE=DURATION:PT1H
X-Robots-Tag:noindex
X-PUBLISHED-TTL:PT1H
BEGIN:VTIMEZONE
TZID:America/New_York
BEGIN:DAYLIGHT
TZOFFSETFROM:-0500
TZOFFSETTO:-0400
TZNAME:EDT
DTSTART:20230312T070000
END:DAYLIGHT
BEGIN:STANDARD
TZOFFSETFROM:-0400
TZOFFSETTO:-0500
TZNAME:EST
DTSTART:20231105T060000
END:STANDARD
BEGIN:DAYLIGHT
TZOFFSETFROM:-0500
TZOFFSETTO:-0400
TZNAME:EDT
DTSTART:20240310T070000
END:DAYLIGHT
BEGIN:STANDARD
TZOFFSETFROM:-0400
TZOFFSETTO:-0500
TZNAME:EST
DTSTART:20241103T060000
END:STANDARD
BEGIN:DAYLIGHT
TZOFFSETFROM:-0500
TZOFFSETTO:-0400
TZNAME:EDT
DTSTART:20250309T070000
END:DAYLIGHT
BEGIN:STANDARD
TZOFFSETFROM:-0400
TZOFFSETTO:-0500
TZNAME:EST
DTSTART:20251102T060000
END:STANDARD
END:VTIMEZONE
BEGIN:VEVENT
DTSTART;TZID=America/New_York:20240613T090000
DTEND;TZID=America/New_York:20240613T100000
DTSTAMP:20260419T133201
CREATED:20240412T152101Z
LAST-MODIFIED:20240412T152101Z
UID:10000145-1718269200-1718272800@www.griffissinstitute.org
SUMMARY:ACE Run & Breakfast
DESCRIPTION:
URL:https://www.griffissinstitute.org/event/ace-run-breakfast-2/
ATTACH;FMTTYPE=image/png:https://www.griffissinstitute.org/wp-content/uploads/2024/04/Untitled-design-10.png
END:VEVENT
BEGIN:VEVENT
DTSTART;TZID=America/New_York:20240613T123000
DTEND;TZID=America/New_York:20240613T133000
DTSTAMP:20260419T133201
CREATED:20240412T152329Z
LAST-MODIFIED:20240412T152329Z
UID:10000146-1718281800-1718285400@www.griffissinstitute.org
SUMMARY:Information Institute Tech Talk
DESCRIPTION:
URL:https://www.griffissinstitute.org/event/information-institute-tech-talk/
LOCATION:Innovare Advancement Center
ATTACH;FMTTYPE=image/png:https://www.griffissinstitute.org/wp-content/uploads/2024/04/Untitled-design-2-4.png
END:VEVENT
END:VCALENDAR