BEGIN:VCALENDAR
VERSION:2.0
PRODID:-//Griffiss Institute - ECPv6.15.20//NONSGML v1.0//EN
CALSCALE:GREGORIAN
METHOD:PUBLISH
X-ORIGINAL-URL:https://www.griffissinstitute.org
X-WR-CALDESC:Events for Griffiss Institute
REFRESH-INTERVAL;VALUE=DURATION:PT1H
X-Robots-Tag:noindex
X-PUBLISHED-TTL:PT1H
BEGIN:VTIMEZONE
TZID:America/New_York
BEGIN:DAYLIGHT
TZOFFSETFROM:-0500
TZOFFSETTO:-0400
TZNAME:EDT
DTSTART:20230312T070000
END:DAYLIGHT
BEGIN:STANDARD
TZOFFSETFROM:-0400
TZOFFSETTO:-0500
TZNAME:EST
DTSTART:20231105T060000
END:STANDARD
BEGIN:DAYLIGHT
TZOFFSETFROM:-0500
TZOFFSETTO:-0400
TZNAME:EDT
DTSTART:20240310T070000
END:DAYLIGHT
BEGIN:STANDARD
TZOFFSETFROM:-0400
TZOFFSETTO:-0500
TZNAME:EST
DTSTART:20241103T060000
END:STANDARD
BEGIN:DAYLIGHT
TZOFFSETFROM:-0500
TZOFFSETTO:-0400
TZNAME:EDT
DTSTART:20250309T070000
END:DAYLIGHT
BEGIN:STANDARD
TZOFFSETFROM:-0400
TZOFFSETTO:-0500
TZNAME:EST
DTSTART:20251102T060000
END:STANDARD
END:VTIMEZONE
BEGIN:VEVENT
DTSTART;TZID=America/New_York:20240422T080000
DTEND;TZID=America/New_York:20240426T140000
DTSTAMP:20260419T154805
CREATED:20240412T132016Z
LAST-MODIFIED:20240412T132016Z
UID:10000137-1713772800-1714140000@www.griffissinstitute.org
SUMMARY:AFRL Challenge Competition
DESCRIPTION:The AFRL Challenge Competition is an annual STEM initiative for local high school students. The intent of the competition is to provide a more realistic view into the types of high-tech problems our Nation is facing and how researchers go about dissecting and solving these complex challenges. Students spend a week working on a challenge problem and participate in an awards ceremony at the end of the week.
URL:https://www.griffissinstitute.org/event/afrl-challenge-competition/
LOCATION:Innovare Advancement Center
ATTACH;FMTTYPE=image/png:https://www.griffissinstitute.org/wp-content/uploads/2024/04/Untitled-design-9.png
ORGANIZER;CN="Griffiss Institute":MAILTO:kpoynter@griffissinstitute.org
END:VEVENT
BEGIN:VEVENT
DTSTART;TZID=America/New_York:20240423T110000
DTEND;TZID=America/New_York:20240423T130000
DTSTAMP:20260419T154805
CREATED:20240409T190607Z
LAST-MODIFIED:20240409T190607Z
UID:10000038-1713870000-1713877200@www.griffissinstitute.org
SUMMARY:Food Trucks at Innovare: Arizona Tacos
DESCRIPTION:Arizona Tacos is celebrating Taco Tuesdays at Innovare! Grab lunch between 11:00-1:00 to taste the heat straight from Arizona right here in Rome\, NY! The truck will be in the Innovare Parking lot\, 592 Hangar Rd. every Tuesday from 11:00 am-1:00 pm!
URL:https://www.griffissinstitute.org/event/food-trucks-at-innovare-arizona-tacos-2/2024-04-23/
LOCATION:Innovare Parking Lot
CATEGORIES:Community Event,Innovare Event
ATTACH;FMTTYPE=image/png:https://www.griffissinstitute.org/wp-content/uploads/2024/01/Food-trucks-at-Innovare-Logo-2024-2.png
ORGANIZER;CN="Griffiss Institute":MAILTO:kpoynter@griffissinstitute.org
END:VEVENT
END:VCALENDAR